BEGIN:VCALENDAR
VERSION:2.0
PRODID:spatie/icalendar-generator
DESCRIPTION:Events from American Legion Post 15 Sioux Falls\, SD
X-WR-CALDESC:Events from American Legion Post 15 Sioux Falls\, SD
REFRESH-INTERVAL;VALUE=DURATION:PT1440M
X-PUBLISHED-TTL:PT1440M
BEGIN:VTIMEZONE
TZID:Etc/GMT+6
BEGIN:STANDARD
DTSTART:20231110T000000Z
TZOFFSETFROM:-0600
TZOFFSETTO:-0600
END:STANDARD
END:VTIMEZONE
BEGIN:VTIMEZONE
TZID:UTC
BEGIN:STANDARD
DTSTART:20250728T174530Z
TZOFFSETFROM:+0000
TZOFFSETTO:+0000
END:STANDARD
END:VTIMEZONE
BEGIN:VEVENT
UID:1229-85
DTSTAMP:20260424T174530Z
SUMMARY:NOTICE OF MEETING CANCELATION (There will be no Legion Meeting on T
 uesday August 6\, 2024)
LOCATION:SD American Legion Post 15  1700 West Russell Street  Sioux Falls 
 SD 57104
ORGANIZER;CN=Post15Admin:MAILTO:admin@ppwix.com
DTSTART;TZID=Etc/GMT+6;VALUE=DATE:20240806
DTEND;TZID=Etc/GMT+6;VALUE=DATE:20240807
X-ALT-DESC;FMTTYPE=TEXT/HTML:<p>There will be no Legion meeting on Tuesday 
 August 6\, 2024\, in Honor of Brigadier General Dean Mann.</p>\n
CATEGORIES:Membership Meeting,  Leadership
URL;VALUE=URI:https://siouxfallslegion.org/mc-events/notice-of-meeting-canc
 elation-there-will-be-no-legion-meeting-on-tuesday-august-6-2024-2/
METHOD:PUBLISH
END:VEVENT
END:VCALENDAR