BEGIN:VCALENDAR
VERSION:2.0
PRODID:spatie/icalendar-generator
DESCRIPTION:Events from American Legion Post 15 Sioux Falls\, SD
X-WR-CALDESC:Events from American Legion Post 15 Sioux Falls\, SD
REFRESH-INTERVAL;VALUE=DURATION:PT1440M
X-PUBLISHED-TTL:PT1440M
BEGIN:VTIMEZONE
TZID:Etc/GMT+6
BEGIN:STANDARD
DTSTART:20240508T140000Z
TZOFFSETFROM:-0600
TZOFFSETTO:-0600
END:STANDARD
END:VTIMEZONE
BEGIN:VTIMEZONE
TZID:UTC
BEGIN:STANDARD
DTSTART:20250724T004010Z
TZOFFSETFROM:+0000
TZOFFSETTO:+0000
END:STANDARD
END:VTIMEZONE
BEGIN:VEVENT
UID:2333-115
DTSTAMP:20260420T004010Z
SUMMARY:Four Chaplains Memorial Service
LOCATION:SD American Legion Post 15  1700 West Russell Street  Sioux Falls 
 SD 57104
ORGANIZER;CN=Post15Admin:MAILTO:admin@ppwix.com
DTSTART;TZID=Etc/GMT+6:20250202T140000
DTEND;TZID=Etc/GMT+6:20250202T150000
X-ALT-DESC;FMTTYPE=TEXT/HTML:<p>Come Celebrate Unity and Self-Sacrifice As 
 Veterans Observe The Four Chaplains Memorial Service to be held at the Ame
 rican Legion Post 15</p>\n
CATEGORIES:General,  Legion Family Events,  Public,  Social
URL;VALUE=URI:https://siouxfallslegion.org/mc-events/four-chaplains-memoria
 l-service/
METHOD:PUBLISH
END:VEVENT
END:VCALENDAR