BEGIN:VCALENDAR
VERSION:2.0
PRODID:spatie/icalendar-generator
DESCRIPTION:Events from American Legion Post 15 Sioux Falls\, SD
X-WR-CALDESC:Events from American Legion Post 15 Sioux Falls\, SD
REFRESH-INTERVAL;VALUE=DURATION:PT1440M
X-PUBLISHED-TTL:PT1440M
BEGIN:VTIMEZONE
TZID:Etc/GMT+6
BEGIN:STANDARD
DTSTART:20260214T103000Z
TZOFFSETFROM:-0600
TZOFFSETTO:-0600
END:STANDARD
END:VTIMEZONE
BEGIN:VTIMEZONE
TZID:UTC
BEGIN:STANDARD
DTSTART:20250727T174838Z
TZOFFSETFROM:+0000
TZOFFSETTO:+0000
END:STANDARD
END:VTIMEZONE
BEGIN:VEVENT
UID:246-21
DTSTAMP:20260423T174838Z
SUMMARY:Veterans Day Program &amp;amp\; Ceremonies
LOCATION:South Dakota Military Heritage Alliance 1600 West Russell Street  
 Sioux Falls SD 57104
ORGANIZER;CN=Post15Admin:MAILTO:admin@ppwix.com
DTSTART;TZID=Etc/GMT+6:20261111T103000
DTEND;TZID=Etc/GMT+6:20261111T120000
X-ALT-DESC;FMTTYPE=TEXT/HTML:<p>Greater Sioux Falls Chamber of Commerce is 
 always the host for the Veterans Day Program. We are proud that the POST 1
 5 Singing Legionnaires will be performing again at 10:30a.m. Bring the kid
 dos - this is a great time for them to learn about patriotism and meet som
 e veterans too. The veterans love to tell their stories.</p>\n
CATEGORIES:General,  Legion Family Events,  Public
URL;VALUE=URI:https://siouxfallslegion.org/mc-events/veterans-day-program-c
 eremonies/
METHOD:PUBLISH
END:VEVENT
END:VCALENDAR